BEGIN:VCALENDAR
VERSION:2.0
PRODID:-//https://www.grinrescue.org///NONSGML kigkonsult.se iCalcreator 2.10.15//
METHOD:PUBLISH
BEGIN:VEVENT
UID:20260419T230108UTC-71958Mr0rR@https://www.grinrescue.org/
DTSTAMP:20260419T230108Z
DESCRIPTION: https://www.grinrescue.org/component/rseventspro/event/153-gif
 t-wrapping-at-barnes-and-noble?Itemid=101
DTSTART:20181206T220000Z
DTEND:20181207T020000Z
LOCATION:Barnes and Noble - Eton Chagrin Boulevard Shopping Center (28801 C
 hagrin Boulevard\, Eton Chagrin Boulevard\, Woodmere\, OH 44122\, USA)
SUMMARY:Gift Wrapping at Barnes and Noble
URL:https://www.grinrescue.org/component/rseventspro/event/153-gift-wrappin
 g-at-barnes-and-noble?Itemid=101
END:VEVENT
END:VCALENDAR
