BEGIN:VCALENDAR
VERSION:2.0
PRODID:-//https://www.grinrescue.org///NONSGML kigkonsult.se iCalcreator 2.10.15//
METHOD:PUBLISH
BEGIN:VEVENT
UID:20260423T035721UTC-6454pD9o7x@https://www.grinrescue.org/
DTSTAMP:20260423T035721Z
DESCRIPTION: https://www.grinrescue.org/component/rseventspro/event/204-pet
 -people?Itemid=101
DTSTART:20190316T150000Z
DTEND:20190316T180000Z
LOCATION:PetPeople - Rocky River (19565 Detroit Road\, Rocky River\, OH 441
 16\, USA)
SUMMARY:Pet People
URL:https://www.grinrescue.org/component/rseventspro/event/204-pet-people?I
 temid=101
END:VEVENT
END:VCALENDAR
