BEGIN:VCALENDAR
VERSION:2.0
PRODID:-//https://www.grinrescue.org///NONSGML kigkonsult.se iCalcreator 2.10.15//
METHOD:PUBLISH
BEGIN:VEVENT
UID:20260419T220806UTC-1769EUn7mm@https://www.grinrescue.org/
DTSTAMP:20260419T220806Z
DESCRIPTION: https://www.grinrescue.org/component/rseventspro/event/294-gif
 t-wrapping-orvis?Itemid=101
DTSTART:20191207T160000Z
DTEND:20191207T210000Z
LOCATION:Orvis Eton Collection (28839 Chagrin Boulevard\, Eton Chagrin Boul
 evard\, Woodmere\, OH 44122\, USA)
SUMMARY:GIFT WRAPPING ORVIS
URL:https://www.grinrescue.org/component/rseventspro/event/294-gift-wrappin
 g-orvis?Itemid=101
END:VEVENT
END:VCALENDAR
