BEGIN:VCALENDAR
VERSION:2.0
PRODID:-//https://www.grinrescue.org///NONSGML kigkonsult.se iCalcreator 2.10.15//
METHOD:PUBLISH
BEGIN:VEVENT
UID:20260423T090019UTC-7238UMP2v3@https://www.grinrescue.org/
DTSTAMP:20260423T090019Z
DESCRIPTION:SPRING CELEBRATION GALE'S GARDEN CENTER\nJoin GRIN Ambassadors 
 at Gale's Garden Center for a Spring Celebration!\nWe will be on site alon
 g with our sweet golden retriever alumni at both the Westlake and Willough
 by Gale's Garden Center locations.\nMark your calendars for the following 
 dates and times:\nSaturday April 5th 1PM-3PM\n24373 Center Ridge Road\, We
 stlake\, OH 44145\nGale's Garden Center is a dog friendly business\, dogs 
 must be well behaved and on leash.\nWe hope to see you there!\n https://ww
 w.grinrescue.org/component/rseventspro/event/698-spring-celebration-gales-
 garden-center-westlake?Itemid=101
DTSTART:20250405T170000Z
DTEND:20250405T190000Z
LOCATION:Gale's Garden Center (24373 Center Ridge Rd\, Westlake\, OH 44145\
 , USA)
SUMMARY:Spring Celebration  Gales Garden Center - Westlake
URL:https://www.grinrescue.org/component/rseventspro/event/698-spring-celeb
 ration-gales-garden-center-westlake?Itemid=101
END:VEVENT
END:VCALENDAR
