BEGIN:VCALENDAR
VERSION:2.0
PRODID:-//https://www.grinrescue.org///NONSGML kigkonsult.se iCalcreator 2.10.15//
METHOD:PUBLISH
BEGIN:VEVENT
UID:20260423T065313UTC-3026oJllBM@https://www.grinrescue.org/
DTSTAMP:20260423T065313Z
DESCRIPTION: https://www.grinrescue.org/events/events-calendar/event/220-pa
 wsitive-ohio-dogone-north-canton
DTSTART:20190727T140000Z
DTEND:20190727T180000Z
LOCATION:Dog Gone North Canton - Witwer Park (605 Fair Oaks Ave SW\, North 
 Canton\, OH 44720\, USA)
SUMMARY:Pawsitive Ohio Dogone North Canton
URL:https://www.grinrescue.org/events/events-calendar/event/220-pawsitive-o
 hio-dogone-north-canton
END:VEVENT
END:VCALENDAR
