BEGIN:VCALENDAR
VERSION:2.0
PRODID:-//https://www.grinrescue.org///NONSGML kigkonsult.se iCalcreator 2.10.15//
METHOD:PUBLISH
BEGIN:VEVENT
UID:20260424T100419UTC-6871fj5Oa4@https://www.grinrescue.org/
DTSTAMP:20260424T100419Z
DESCRIPTION: https://www.grinrescue.org/events/events-calendar/event/286-ho
 liday-portraits-at-pet-people-strongsville
DTSTART:20191116T150000Z
DTEND:20191116T220000Z
LOCATION:Pet People Strongsville (18360 Royalton Rd\, Strongsville\, OH 441
 36\, USA)
SUMMARY:Holiday Portraits at Pet People Strongsville
URL:https://www.grinrescue.org/events/events-calendar/event/286-holiday-por
 traits-at-pet-people-strongsville
END:VEVENT
END:VCALENDAR
