BEGIN:VCALENDAR
VERSION:2.0
PRODID:-//https://www.grinrescue.org///NONSGML kigkonsult.se iCalcreator 2.10.15//
METHOD:PUBLISH
BEGIN:VEVENT
UID:20260422T195447UTC-7313lVMT5h@https://www.grinrescue.org/
DTSTAMP:20260422T195447Z
DESCRIPTION: https://www.grinrescue.org/events/events-calendar/event/291-gi
 ft-wrapping-at-barnes-and-noble
DTSTART:20191129T210000Z
DTEND:20191130T020000Z
LOCATION:Barnes and Noble - Eton Chagrin Boulevard Shopping Center (28801 C
 hagrin Boulevard\, Eton Chagrin Boulevard\, Woodmere\, OH 44122\, USA)
SUMMARY:GIFT WRAPPING AT BARNES AND NOBLE
URL:https://www.grinrescue.org/events/events-calendar/event/291-gift-wrappi
 ng-at-barnes-and-noble
END:VEVENT
END:VCALENDAR
