BEGIN:VCALENDAR
VERSION:2.0
PRODID:-//https://www.grinrescue.org///NONSGML kigkonsult.se iCalcreator 2.10.15//
METHOD:PUBLISH
BEGIN:VEVENT
UID:20260424T163617UTC-0604Wu2aV0@https://www.grinrescue.org/
DTSTAMP:20260424T163617Z
DESCRIPTION:It’s time to celebrate 30 Years of Rescue \n\nJoin us at the GR
 IN GALA!\n\nAfter a nasty virus shut us down for a couple of years\, we ar
 e happy to announce the GRIN Gala is BACK!!&nbsp\; We invite you to join u
 s on Saturday\, October 8\, 2022\, for GRIN’s largest annual fund-raiser b
 eing held at St. Michaels Woodside Party Center in Broadview Hts.&nbsp\; T
 he doors will open at 5:30 p.m. $65 per person\, cash bar\, multi auction 
 tables\, fun sideboard activities\, and a family style dinner will be serv
 ed at 6:45 p.m. (3 entrees\, salad\, sides\, dessert\, coffee\, tea\, soda
 ). All auctions and multiple sideboards open at 5:30 pm. Two Early Bird Ra
 ffle drawings at 6:00 and 6:45.\n\nClick REGISTER at the top of this page.
  Don't delay! Reservation deadline September 25\, 2022. There will be no t
 icket sales at the door.&nbsp\;\n https://www.grinrescue.org/events/events
 -calendar/event/383-grin-golden-gala-registration
DTSTART:20220729T120001Z
DTEND:20220925T220000Z
LOCATION:St. Michaels Woodside Party Center (5025 Mill Road\, Broadview Hei
 ghts\, OH 44147\, USA)
SUMMARY:GRIN Golden GALA Registration
URL:https://www.grinrescue.org/events/events-calendar/event/383-grin-golden
 -gala-registration
END:VEVENT
END:VCALENDAR
