BEGIN:VCALENDAR
VERSION:2.0
PRODID:-//https://www.grinrescue.org///NONSGML kigkonsult.se iCalcreator 2.10.15//
METHOD:PUBLISH
BEGIN:VEVENT
UID:20260421T024347UTC-4670fWZAUK@https://www.grinrescue.org/
DTSTAMP:20260421T024347Z
DESCRIPTION:Orvis has invited GRIN back to its Woodmere store location to g
 ift wrap for the holidays. A portion of the gift wrap proceeds benefit GRI
 N. Stop by and support GRIN and Orvis!\n\n28839 Chagrin Boulevard\nWoodmer
 e\, OH 44122\n https://www.grinrescue.org/events/events-calendar/event/429
 -orvis-gift-wrapping
DTSTART:20221203T160000Z
DTEND:20221203T210000Z
LOCATION:Orvis Eton Collection (28839 Chagrin Boulevard\, Eton Chagrin Boul
 evard\, Woodmere\, OH 44122\, USA)
SUMMARY:Orvis Gift Wrapping
URL:https://www.grinrescue.org/events/events-calendar/event/429-orvis-gift-
 wrapping
END:VEVENT
END:VCALENDAR
