BEGIN:VCALENDAR
VERSION:2.0
PRODID:-//https://www.grinrescue.org///NONSGML kigkonsult.se iCalcreator 2.10.15//
METHOD:PUBLISH
BEGIN:VEVENT
UID:20260424T162013UTC-74224cBkCO@https://www.grinrescue.org/
DTSTAMP:20260424T162013Z
DESCRIPTION:GRIN is thrilled to attend the Columbus Pet Expo from 3/8-3/10.
 &nbsp\;&nbsp\;This event is at the Ohio Expo Center in\nColumbus and will 
 feature tons of rescues and shelters promoting awareness for rescue and ad
 option\nefforts.&nbsp\;&nbsp\;This year's event attendance is expected to 
 be over 20\,000 so it is a great opportunity for our\norganization!&nbsp\;
 &nbsp\;\n\n\nWe will have volunteers and ambassadors on hand throughout th
 e weekend to raise awareness for\nGRIN. Hours for the expo are as follows\
 , stop on out and say hello!\nFriday March 8th 12pm-8pm\nSaturday March 9t
 h 10am-7pm\nSunday March 10th 10am-5pm\n\n\nhttps://www.columbuspetexpo.co
 m/\n\n&nbsp\;\n https://www.grinrescue.org/events/events-calendar/event/57
 8-columbus-pet-expo
DTSTART:20240308T170000Z
DTEND:20240310T210000Z
LOCATION:Ohio Expo Center (717 E 17th Ave\, Columbus\, OH 43211\, USA)
SUMMARY:Columbus Pet Expo
URL:https://www.grinrescue.org/events/events-calendar/event/578-columbus-pe
 t-expo
END:VEVENT
END:VCALENDAR
