BEGIN:VCALENDAR
VERSION:2.0
PRODID:-//https://www.grinrescue.org///NONSGML kigkonsult.se iCalcreator 2.10.15//
METHOD:PUBLISH
BEGIN:VEVENT
UID:20260422T225455UTC-5035wC0P7O@https://www.grinrescue.org/
DTSTAMP:20260422T225455Z
DESCRIPTION:\n\nTickets for this year's Gala are currently SOLD OUT. Thank 
 you for your support!!\n https://www.grinrescue.org/events/events-calendar
 /event/583-denim-diamonds-gala
DTSTART:20241012T213050Z
DTEND:20241013T030000Z
LOCATION:St. Michaels Woodside Party Center\, 5025 Mill Rd\, Broadview Heig
 hts\, OH 44147 (5025 W Mill Rd\, Broadview Heights\, OH 44147\, USA)
SUMMARY:Denim & Diamonds Gala
URL:https://www.grinrescue.org/events/events-calendar/event/583-denim-diamo
 nds-gala
END:VEVENT
END:VCALENDAR
