BEGIN:VCALENDAR
VERSION:2.0
PRODID:-//https://www.grinrescue.org///NONSGML kigkonsult.se iCalcreator 2.10.15//
METHOD:PUBLISH
BEGIN:VEVENT
UID:20260422T090931UTC-6692NRsn6D@https://www.grinrescue.org/
DTSTAMP:20260422T090931Z
DESCRIPTION:Visit Hollywood Feed in Rocky River and meet GRIN members and t
 heir pups from noon until 2 pm the second Saturday of each month. Learn ab
 out GRIN and the work they do for the Golden Retrievers in Need.\nHollywoo
 d Feed is located at 19565 Detroit Rd\, Rocky River\, OH 44116\n&nbsp\; ht
 tps://www.grinrescue.org/events/events-calendar/event/777-hollywood-feed-r
 ocky-river
DTSTART:20260214T170000Z
DTEND:20260214T190000Z
LOCATION:Hollywood Feed Rocky River (19565 Detroit Rd\, Rocky River\, OH 44
 116\, USA)
SUMMARY:Hollywood Feed - Rocky River
URL:https://www.grinrescue.org/events/events-calendar/event/777-hollywood-f
 eed-rocky-river
END:VEVENT
END:VCALENDAR
